BEGIN:VCALENDAR
PRODID:Appointment
CALSCALE:GREGORIAN
VERSION:2.0
BEGIN:VEVENT
DTSTAMP:20260425T103306Z
DTSTART:20261127T090000
DTEND:20261127T120000
SUMMARY:Mobbing
UID:1f78ee64-4f6f-4bc4-a5a4-3ae90b6c056d
DESCRIPTION:Die Veranstaltung vermittelt notwendige Kenntnisse gem. § 37 
 Abs. 6 BetrVG. Wenn du teilnehmen willst\, melde sich bitte unter muench
 en@igmetall.de an
END:VEVENT
END:VCALENDAR
