BEGIN:VCALENDAR
PRODID:Appointment
CALSCALE:GREGORIAN
VERSION:2.0
BEGIN:VEVENT
DTSTAMP:20260425T103342Z
DTSTART:20261021T170000
DTEND:20261021T180000
SUMMARY:Tarifrunde/Tarifvertrag
UID:1fb0cdc8-6a65-4201-b1e4-893b891b21b1
LOCATION:online
END:VEVENT
END:VCALENDAR
