BEGIN:VCALENDAR
PRODID:Appointment
CALSCALE:GREGORIAN
VERSION:2.0
BEGIN:VEVENT
DTSTAMP:20260425T103117Z
DTSTART:20260802T190000
DTEND:20260807T140000
SUMMARY:Arbeitnehmer*innen in Betrieb\, Wirtschaft und Gesellschaft 1
UID:3cc2bcdc-b351-4f70-99ad-7bb0f98540f1
DESCRIPTION:Grundlagenseminar für Vertrauensleute & Betriebsratsmitgliede
 r
LOCATION:Kritische Akademie Inzell \, Salinenweg 45\, 83334 Inzell 
END:VEVENT
END:VCALENDAR
