BEGIN:VCALENDAR
PRODID:Appointment
CALSCALE:GREGORIAN
VERSION:2.0
BEGIN:VEVENT
DTSTAMP:20260425T103413Z
DTSTART;VALUE=DATE:20260627
DTEND;VALUE=DATE:20260628
SUMMARY:CSD München
UID:56e5bd70-2639-4806-acf3-fac9385ee140
DESCRIPTION:Die Münchner CSD-PolitParade ist die größte Demonstration von
  Lesben\, Schwulen\, Bisexuellen\, trans*\, inter* und queeren Menschen 
 (LGBTIQ*) für gleiche Rechte und gesellschaftliche Akzeptanz im süddeuts
 chen Raum. 
END:VEVENT
END:VCALENDAR
