BEGIN:VCALENDAR
PRODID:Appointment
CALSCALE:GREGORIAN
VERSION:2.0
BEGIN:VEVENT
DTSTAMP:20260425T103306Z
DTSTART:20260507T090000
DTEND:20260507T120000
SUMMARY:Employee Life Circle
UID:5ecfb1b4-0b84-457a-b827-c3aad06dc816
DESCRIPTION:Die Veranstaltung vermittelt notwendige Kenntnisse gem. § 37 
 Abs. 6 BetrVG. Wenn du teilnehmen willst\, melde sich bitte unter muench
 en@igmetall.de an
END:VEVENT
END:VCALENDAR
