BEGIN:VCALENDAR
PRODID:Appointment
CALSCALE:GREGORIAN
VERSION:2.0
BEGIN:VEVENT
DTSTAMP:20260425T103205Z
DTSTART:20260623T180000
DTEND:20260623T190000
SUMMARY:CSD
UID:79ea92b7-a786-4b4a-8e63-8be37da31363
LOCATION:online
END:VEVENT
END:VCALENDAR
