BEGIN:VCALENDAR
PRODID:Appointment
CALSCALE:GREGORIAN
VERSION:2.0
BEGIN:VEVENT
DTSTAMP:20260425T103342Z
DTSTART:20260714T090000
DTEND:20260714T120000
SUMMARY:Begrüßungsrunden - die Neuen kommen
UID:82021e45-b207-40f5-bb3d-6864718e76f1
DESCRIPTION:Die Veranstaltung vermittelt notwendige Kenntnisse gem. § 37 
 Abs. 6 BetrVG. Wenn du teilnehmen willst\, melde sich bitte unter muench
 en@igmetall.de an
END:VEVENT
END:VCALENDAR
