BEGIN:VCALENDAR
PRODID:Appointment
CALSCALE:GREGORIAN
VERSION:2.0
BEGIN:VEVENT
DTSTAMP:20260425T103005Z
DTSTART;VALUE=DATE:20260427
DTEND;VALUE=DATE:20260430
SUMMARY:Vertrauensleute im Spannungsfeld: Helfen\, Grenzen ziehen\, Orien
 tierung geben
UID:842cac0a-e8b6-4802-b29c-8cd3d323ee17
DESCRIPTION:Baustein 4:» Diskriminierende Situationen imArbeitsumfeld bea
 rbeiten» klare Positionierung üben» Grenzen erkennen und ziehen
LOCATION:Hotel Schiller \, Nöscherstr. 20\, 82140 Olching
END:VEVENT
END:VCALENDAR
