BEGIN:VCALENDAR
PRODID:Appointment
CALSCALE:GREGORIAN
VERSION:2.0
BEGIN:VEVENT
DTSTAMP:20260425T103232Z
DTSTART:20261111T090000
DTEND:20261111T120000
SUMMARY:Einigungsstelle
UID:861e73a0-d28d-44ac-9dac-34f5ffeeb0f3
DESCRIPTION:Die Veranstaltung vermittelt notwendige Kenntnisse gem. § 37 
 Abs. 6 BetrVG. Wenn du teilnehmen willst\, melde sich bitte unter muench
 en@igmetall.de an
END:VEVENT
END:VCALENDAR
