BEGIN:VCALENDAR
PRODID:Appointment
CALSCALE:GREGORIAN
VERSION:2.0
BEGIN:VEVENT
DTSTAMP:20260425T103412Z
DTSTART;VALUE=DATE:20260722
DTEND;VALUE=DATE:20260723
SUMMARY:Gedenken OEZ-Anschlag 
UID:90b0a3eb-0466-4d43-ab9c-171032247d53
DESCRIPTION:Am 22. Juli 2016 wurden Armela\, Can\, Dijamant\, Guiliano\, 
 Hüseyin\, Roberto\, Sabine\, Selçuk und Sevda durch Hass und Gewalt aus 
 rechten\, rassistischen Motiven von uns genommen.\n\nZehn Jahre sind ver
 gangen.
END:VEVENT
END:VCALENDAR
