BEGIN:VCALENDAR
PRODID:Appointment
CALSCALE:GREGORIAN
VERSION:2.0
BEGIN:VEVENT
DTSTAMP:20260425T103341Z
DTSTART:20261011T190000
DTEND:20261016T140000
SUMMARY:Arbeitnehmer*innen in Betrieb\, Wirtschaft und Gesellschaft 1
UID:9d271e9f-03ca-4015-ad1a-8c9b1414a2fa
DESCRIPTION:Grundlagenseminar für Vertrauensleute & Betriebsratsmitgliede
 r
LOCATION:Kritische Akademie Inzell \, Salinenweg 45\, 83334 Inzell 
END:VEVENT
END:VCALENDAR
