BEGIN:VCALENDAR
PRODID:Appointment
CALSCALE:GREGORIAN
VERSION:2.0
BEGIN:VEVENT
DTSTAMP:20260425T103515Z
DTSTART:20261202T180000
DTEND:20261202T190000
SUMMARY:Kündigung und Aufhebungsvertrag
UID:ab95e414-c388-42f0-93d0-fc01277e1312
LOCATION:online
END:VEVENT
END:VCALENDAR
