BEGIN:VCALENDAR
PRODID:Appointment
CALSCALE:GREGORIAN
VERSION:2.0
BEGIN:VEVENT
DTSTAMP:20260425T103033Z
DTSTART;VALUE=DATE:20261016
DTEND;VALUE=DATE:20261017
SUMMARY:Jubilarfeier
UID:b00b3b56-e812-4b08-acdd-24d43cff8076
DESCRIPTION:Ein ganz besonderer Termin ist die jährliche Ehrung der Jubil
 are und Jubilarinnen durch die IG Metall München.
END:VEVENT
END:VCALENDAR
