BEGIN:VCALENDAR
PRODID:Appointment
CALSCALE:GREGORIAN
VERSION:2.0
BEGIN:VEVENT
DTSTAMP:20260425T103211Z
DTSTART;VALUE=DATE:20260916
DTEND;VALUE=DATE:20260919
SUMMARY:Auftrittskompetenz
UID:da00db06-853d-4903-8818-d61ee0b5b3fa
DESCRIPTION:Baustein 6:» Kompetente Gesprächsführung» Körperhaltung\, Sti
 mme & Ausdruck» Umgang mit Lampenfieber» Gesprächsvorbereitung
LOCATION:Hotel Schiller \, Nöscherstr. 20\, 82140 Olching
END:VEVENT
END:VCALENDAR
